BEGIN:VCALENDAR
VERSION:2.0
PRODID:-//Asian Pacific American Bar Association Silicon Valley | APABA-SV - ECPv6.15.17//NONSGML v1.0//EN
CALSCALE:GREGORIAN
METHOD:PUBLISH
X-WR-CALNAME:Asian Pacific American Bar Association Silicon Valley | APABA-SV
X-ORIGINAL-URL:https://apabasv.com
X-WR-CALDESC:Events for Asian Pacific American Bar Association Silicon Valley | APABA-SV
REFRESH-INTERVAL;VALUE=DURATION:PT1H
X-Robots-Tag:noindex
X-PUBLISHED-TTL:PT1H
BEGIN:VTIMEZONE
TZID:America/Los_Angeles
BEGIN:DAYLIGHT
TZOFFSETFROM:-0800
TZOFFSETTO:-0700
TZNAME:PDT
DTSTART:20250309T100000
END:DAYLIGHT
BEGIN:STANDARD
TZOFFSETFROM:-0700
TZOFFSETTO:-0800
TZNAME:PST
DTSTART:20251102T090000
END:STANDARD
BEGIN:DAYLIGHT
TZOFFSETFROM:-0800
TZOFFSETTO:-0700
TZNAME:PDT
DTSTART:20260308T100000
END:DAYLIGHT
BEGIN:STANDARD
TZOFFSETFROM:-0700
TZOFFSETTO:-0800
TZNAME:PST
DTSTART:20261101T090000
END:STANDARD
BEGIN:DAYLIGHT
TZOFFSETFROM:-0800
TZOFFSETTO:-0700
TZNAME:PDT
DTSTART:20270314T100000
END:DAYLIGHT
BEGIN:STANDARD
TZOFFSETFROM:-0700
TZOFFSETTO:-0800
TZNAME:PST
DTSTART:20271107T090000
END:STANDARD
END:VTIMEZONE
BEGIN:VEVENT
DTSTART;TZID=America/Los_Angeles:20260510T123000
DTEND;TZID=America/Los_Angeles:20260510T170000
DTSTAMP:20260421T043204
CREATED:20260414T222108Z
LAST-MODIFIED:20260414T225703Z
UID:4643-1778416200-1778432400@apabasv.com
SUMMARY:⚽ Bay FC's AANHPI Night at PayPal Park with APABA Silicon Valley
DESCRIPTION:RSVP here\n	\nJoin APABA Silicon Valley for Bay FC’s AANHPI Night at PayPal Park to watch Bay FC take on Utah Royals FC! Your ticket includes admission to the match\, where we’ll connect with the community and cheer on Bay FC. \nTickets: $21\, no taxes or fees (discounted rate for APABA SV)\nSeating: Our group will be seated together so you can fully enjoy the game with fellow attendees. 1:00 PM kickoff\, meet at PayPal Park at 12:30 PM.\nRSVP required by Thursday\, April 16 at 12:00 PM (noon) to secure your spot in our group block. \nThis is a great opportunity to spend the afternoon with fellow members\, friends\, and families to connect\, build community\, and show our support—both for AANHPI heritage and for women’s professional sports in the Bay Area. Family and friends are warmly invited to join us! \nBeyond the match\, the event will feature interactive experiences\, food trucks\, and in-game entertainment celebrating AANHPI heritage and culture—making it a fun and festive experience for all. \nWe hope you’ll join us for a meaningful and fun-filled day with the APABA SV community!
URL:https://apabasv.com/event/%e2%9a%bd-bay-fcs-aanhpi-night-at-paypal-park-with-apaba-silicon-valley/
LOCATION:PayPal Park\, 1123 Coleman Avenue\, San Jose\, 95110\, United States
ATTACH;FMTTYPE=image/jpeg:https://apabasv.com/wp-content/uploads/2026/04/Bay-FC-AANHPI-Night-at-PayPal-Park-FLYER-AANHPI-Logo-e1776207399170.jpg
END:VEVENT
BEGIN:VEVENT
DTSTART;TZID=America/Los_Angeles:20260514T160000
DTEND;TZID=America/Los_Angeles:20260514T183000
DTSTAMP:20260421T043204
CREATED:20260414T230200Z
LAST-MODIFIED:20260414T230409Z
UID:4651-1778774400-1778783400@apabasv.com
SUMMARY:Safer Futures: Family Law & Immigration Rights Workshop
DESCRIPTION:RSVP here\n	\nJoin APABA Silicon Valley’s Pro Bono Committee for Safer Futures: Family Law & Immigration Rights\, a community workshop designed to support survivors of domestic violence (DV)\, intimate partner violence (IPV)\, and human trafficking (HT)\, as well as community members seeking accessible legal education and resources. \nThis 2.5-hour program will provide practical guidance on family law protections and immigration rights\, along with pathways to safety and support. Attendees can expect two 30–40 minute presentations covering family law protections (e.g.\, DVROs\, divorce\, custody) and immigration rights (e.g.\, ICE protocols\, VAWA\, U-Visas)\, along with dedicated Q&A time following each session. The program will also include resource tabling with community organizations\, providing additional support and information. \nWe encourage all who are interested in learning more about these important legal protections and community resources to attend and share with those who may benefit.
URL:https://apabasv.com/event/safer-futures-family-law-immigration-rights-workshop/
LOCATION:Dr. Martin Luther King Jr. Library\, 150 E. San Fernando Street\, San Jose\, CA\, 95112\, United States
ATTACH;FMTTYPE=image/jpeg:https://apabasv.com/wp-content/uploads/2026/04/Call-for-Volunteers-e1776207604658.jpg
END:VEVENT
BEGIN:VEVENT
DTSTART;TZID=America/Los_Angeles:20260517T120000
DTEND;TZID=America/Los_Angeles:20260517T150000
DTSTAMP:20260421T043204
CREATED:20260420T191808Z
LAST-MODIFIED:20260420T191828Z
UID:4663-1779019200-1779030000@apabasv.com
SUMMARY:IP and Pro Bono Committees' End-of-Spring Potluck
DESCRIPTION:RSVP here\n	\nJoin APABA Silicon Valley’s IP and Pro Bono Committees for an End-of-Spring Potluck—a great opportunity to reconnect with colleagues\, friends\, and family in a relaxed outdoor setting. \nBring your families\, enjoy the spring weather\, and spend time with the APABA SV community. \nSome catered food\, desserts\, plasticware\, and beverages will be provided. Attendees are also invited to bring additional food or drinks to share. \nSpecial thanks to Hogan Lovells US LLP for generously providing the catered food and location permit\, and to Cherry Johnson Siegmund James PC for desserts and beverages. \nQuestions? Please contact Tej Singh at tej.singh@hoganlovells.com or Jack Shaw at jshaw@cjsjlaw.com.
URL:https://apabasv.com/event/end-of-spring-potluck/
LOCATION:Rengstorff Park (Red Large Group Picnic Area)\, 1901-1925 Crisanto Ave\, Mountain View\, CA\, 94040\, United States
ATTACH;FMTTYPE=image/jpeg:https://apabasv.com/wp-content/uploads/2026/04/APABA-SV-End-of-Spring-Potluck-e1776712635930.jpg
END:VEVENT
BEGIN:VEVENT
DTSTART;TZID=America/Los_Angeles:20260518T120000
DTEND;TZID=America/Los_Angeles:20260518T133000
DTSTAMP:20260421T043204
CREATED:20260420T222104Z
LAST-MODIFIED:20260420T222104Z
UID:4676-1779105600-1779111000@apabasv.com
SUMMARY:Effective Communication Workshop (3-Part Series: Part 1)
DESCRIPTION:RSVP here\n	\nJoin APABA Silicon Valley’s Small Firm and Solo Practitioner Committee\, in collaboration with AABA’s Social Committee and Rudhir Krishtel\, for the first workshop of a three-part series – Effective Communication Workshop: Understanding Communication Styles. \nRudhir Krishtel will lead this interactive program and explore how understanding different communication styles can improve interpersonal skills\, build trust\, and foster stronger collaboration in professional settings. \nAttendees are encouraged (but not required) to complete the DISC Assessment in advance to enhance their experience. The DISC Assessment is a tool designed to increase awareness of communication styles and behavioral tendencies—to better understand how they interact with others. \nPlease send completed DISC Assessments to workshops@krishtel.com prior to the session. \nAll are welcome—we hope you can join us for this engaging and practical session!
URL:https://apabasv.com/event/effective-communication-workshop-3-part-series-part-1/
LOCATION:Virtual\, Zoom link to be provided
ATTACH;FMTTYPE=image/jpeg:https://apabasv.com/wp-content/uploads/2026/04/AABA-Krishtel-Team-2026-05-18-Effective-Communication-Workshop-2-e1776723328872.jpg
END:VEVENT
BEGIN:VEVENT
DTSTART;TZID=America/Los_Angeles:20260612T113000
DTEND;TZID=America/Los_Angeles:20260612T140000
DTSTAMP:20260421T043204
CREATED:20260420T192554Z
LAST-MODIFIED:20260420T192554Z
UID:4670-1781263800-1781272800@apabasv.com
SUMMARY:In‑House Lunch at Intel
DESCRIPTION:RSVP here\n	\nAPABA Silicon Valley’s In-House Committee is thrilled to continue the 2026 In-House Lunch Series with an exclusive\, in-person experience hosted at Intel.  This intimate gathering brings together in-house counsels from across Silicon Valley for candid conversation\, meaningful connections\, and community building—set within one of the world’s most innovative technology companies.  Attendees will enjoy a live product demonstration showcasing cutting-edge Intel technologies\, followed by a curated tour of the Intel Museum\, offering a behind-the-scenes look at the innovations shaping the future. \nAttendance is limited to 15 participants\, with priority given to current APABA Silicon Valley In-House members. If you are interested in attending\, please complete the RSVP form by Sunday\, May 31\, 2026. Confirmed attendees will receive a separate confirmation email with additional event details. \nFor questions about the event\, please contact Jason Kang at jason.poh.sing.kang@intel.com. \nWe look forward to bringing together members of our in-house community for a thoughtful and engaging conversation.
URL:https://apabasv.com/event/in-house-lunch-at-intel/
LOCATION:Intel\, 2200 Mission College Boulevard\, Santa Clara\, CA\, 95054\, United States
ATTACH;FMTTYPE=image/jpeg:https://apabasv.com/wp-content/uploads/2026/04/Intel-In-house-Lunch-Series--e1776713063575.jpg
END:VEVENT
END:VCALENDAR