BEGIN:VCALENDAR
VERSION:2.0
PRODID:-//Asian Pacific American Bar Association Silicon Valley | APABA-SV - ECPv6.15.17//NONSGML v1.0//EN
CALSCALE:GREGORIAN
METHOD:PUBLISH
X-WR-CALNAME:Asian Pacific American Bar Association Silicon Valley | APABA-SV
X-ORIGINAL-URL:https://apabasv.com
X-WR-CALDESC:Events for Asian Pacific American Bar Association Silicon Valley | APABA-SV
REFRESH-INTERVAL;VALUE=DURATION:PT1H
X-Robots-Tag:noindex
X-PUBLISHED-TTL:PT1H
BEGIN:VTIMEZONE
TZID:America/Los_Angeles
BEGIN:DAYLIGHT
TZOFFSETFROM:-0800
TZOFFSETTO:-0700
TZNAME:PDT
DTSTART:20250309T100000
END:DAYLIGHT
BEGIN:STANDARD
TZOFFSETFROM:-0700
TZOFFSETTO:-0800
TZNAME:PST
DTSTART:20251102T090000
END:STANDARD
BEGIN:DAYLIGHT
TZOFFSETFROM:-0800
TZOFFSETTO:-0700
TZNAME:PDT
DTSTART:20260308T100000
END:DAYLIGHT
BEGIN:STANDARD
TZOFFSETFROM:-0700
TZOFFSETTO:-0800
TZNAME:PST
DTSTART:20261101T090000
END:STANDARD
BEGIN:DAYLIGHT
TZOFFSETFROM:-0800
TZOFFSETTO:-0700
TZNAME:PDT
DTSTART:20270314T100000
END:DAYLIGHT
BEGIN:STANDARD
TZOFFSETFROM:-0700
TZOFFSETTO:-0800
TZNAME:PST
DTSTART:20271107T090000
END:STANDARD
END:VTIMEZONE
BEGIN:VEVENT
DTSTART;TZID=America/Los_Angeles:20260422T183000
DTEND;TZID=America/Los_Angeles:20260422T203000
DTSTAMP:20260422T052749
CREATED:20260331T175003Z
LAST-MODIFIED:20260331T175003Z
UID:4595-1776882600-1776889800@apabasv.com
SUMMARY:Roundtable Dinner featuring Minh Hoang Merchant\, former General Counsel of Midi Health
DESCRIPTION:RSVP here\n	\nAPABA Silicon Valley’s Women in Law Committee invites you to our second GC Roundtable Dinner of 2026\, featuring Minh Hoang Merchant\, former General Counsel of Midi Health. \nJoin us for an intimate\, small-group dinner discussion with Minh as she shares insights from her career and experiences as a General Counsel. This roundtable offers a unique opportunity for meaningful conversation\, candid insights\, and connection with fellow in-house attorneys and members of the APABA Silicon Valley community. \nAttendance is limited to 10 participants\, with priority given to current APABA SV members. \nPlease RSVP by April 10. Confirmed attendees will receive a separate email with additional event details. \nIf you have any questions\, please contact Kavita Aggarwal at kavita.aggarwal@gmail.com.
URL:https://apabasv.com/event/roundtable-dinner-featuring-minh-hoang-merchant-former-general-counsel-of-midi-health/
LOCATION:Menlo Park location to be shared with confirmed attendees
ATTACH;FMTTYPE=image/jpeg:https://apabasv.com/wp-content/uploads/2026/03/Roundtable-Dinner-Minh-Hoang-Merchant-General-Counsel-Midi-Health-1-e1774979325327.jpg
END:VEVENT
END:VCALENDAR