BEGIN:VCALENDAR
VERSION:2.0
PRODID:-//Asian Pacific American Bar Association Silicon Valley | APABA-SV - ECPv6.15.17//NONSGML v1.0//EN
CALSCALE:GREGORIAN
METHOD:PUBLISH
X-WR-CALNAME:Asian Pacific American Bar Association Silicon Valley | APABA-SV
X-ORIGINAL-URL:https://apabasv.com
X-WR-CALDESC:Events for Asian Pacific American Bar Association Silicon Valley | APABA-SV
REFRESH-INTERVAL;VALUE=DURATION:PT1H
X-Robots-Tag:noindex
X-PUBLISHED-TTL:PT1H
BEGIN:VTIMEZONE
TZID:America/Los_Angeles
BEGIN:DAYLIGHT
TZOFFSETFROM:-0800
TZOFFSETTO:-0700
TZNAME:PDT
DTSTART:20250309T100000
END:DAYLIGHT
BEGIN:STANDARD
TZOFFSETFROM:-0700
TZOFFSETTO:-0800
TZNAME:PST
DTSTART:20251102T090000
END:STANDARD
BEGIN:DAYLIGHT
TZOFFSETFROM:-0800
TZOFFSETTO:-0700
TZNAME:PDT
DTSTART:20260308T100000
END:DAYLIGHT
BEGIN:STANDARD
TZOFFSETFROM:-0700
TZOFFSETTO:-0800
TZNAME:PST
DTSTART:20261101T090000
END:STANDARD
BEGIN:DAYLIGHT
TZOFFSETFROM:-0800
TZOFFSETTO:-0700
TZNAME:PDT
DTSTART:20270314T100000
END:DAYLIGHT
BEGIN:STANDARD
TZOFFSETFROM:-0700
TZOFFSETTO:-0800
TZNAME:PST
DTSTART:20271107T090000
END:STANDARD
END:VTIMEZONE
BEGIN:VEVENT
DTSTART;TZID=America/Los_Angeles:20260421T163000
DTEND;TZID=America/Los_Angeles:20260421T184500
DTSTAMP:20260421T025808
CREATED:20260401T182539Z
LAST-MODIFIED:20260401T182539Z
UID:4610-1776789000-1776797100@apabasv.com
SUMMARY:APABA Silicon Valley and NEDO present: New Possibilities for Injunctions on SEPs - Critical Updates from Japan and US
DESCRIPTION:RSVP here\n	\nAPABA Silicon Valley’s IP Committee\, in collaboration with NEDO\, invites you to an insightful seminar on the evolving global landscape of Standard Essential Patents (SEPs). \nAs courts and regulators across key jurisdictions revisit fundamental questions around SEP enforcement\, this program will explore how FRAND obligations are being applied in practice\, how “willingness” to license is evaluated\, and when injunctive relief may be available. These developments are actively reshaping negotiation dynamics and litigation strategies worldwide. \nJapan has recently emerged as a significant forum for SEP disputes\, including issuing its first-ever injunction based on an implementer’s “unwillingness” to participate in court-led settlement. Meanwhile\, the United States continues to influence SEP policy through evolving case law and renewed attention on remedies available to SEP owners. \nJoin us for a timely discussion on how courts and policymakers are redefining the balance between patent enforcement and access to standardized technologies. \nMODERATOR: Mai Miyaoka\, Senior Director\, NEDO Silicon Valley Office; Principal Patent Examiner\, the Japan Patent Office \nSPEAKERS:\nTakeshi Sakaguchi\, Patent Examiner\, the Japan Patent Office\nJoseph Yang\, Partner\, PatentEsque Law Group LLP; Lecturer\, Stanford Law School
URL:https://apabasv.com/event/apaba-silicon-valley-and-nedo-present-new-possibilities-for-injunctions-on-seps-critical-updates-from-japan-and-us/
LOCATION:Japan Innovation Campus\, 214 Homer Avenue\, Palo Alto\, 94301\, United States
ATTACH;FMTTYPE=image/jpeg:https://apabasv.com/wp-content/uploads/2026/04/NEDO-APABA-Silicon-Valley-Co-hosted-Seminar-scaled-e1775067836776.jpg
END:VEVENT
END:VCALENDAR